BEGIN:VCALENDAR
VERSION:2.0
PRODID:-//Rural Wireless Association - ECPv5.14.0.4//NONSGML v1.0//EN
CALSCALE:GREGORIAN
METHOD:PUBLISH
X-WR-CALNAME:Rural Wireless Association
X-ORIGINAL-URL:https://ruralwireless.org
X-WR-CALDESC:Events for Rural Wireless Association
BEGIN:VTIMEZONE
TZID:UTC
BEGIN:STANDARD
TZOFFSETFROM:+0000
TZOFFSETTO:+0000
TZNAME:UTC
DTSTART:20260101T000000
END:STANDARD
END:VTIMEZONE
BEGIN:VEVENT
DTSTART;TZID=UTC:20260915T150000
DTEND;TZID=UTC:20260915T160000
DTSTAMP:20260424T085008
CREATED:20260402T191425Z
LAST-MODIFIED:20260402T191515Z
UID:16727-1789484400-1789488000@ruralwireless.org
SUMMARY:RWA Annual Meeting during NTCA Fall Conference
DESCRIPTION:The RWA Annual Meeting will be held on Tuesday\, September 15\, 2026\, in Nashville\, TN.  The NTCA Fall conference will be held September 13-16 at the Gaylord Opryland Resort & Convention Center in Nashville.
URL:https://ruralwireless.org/event/rwa-annual-meeting-during-ntca-fall-conference/
END:VEVENT
END:VCALENDAR